BEGIN:VCALENDAR
VERSION:2.0
PRODID:-//Granbury Baptist - ECPv6.15.17.1//NONSGML v1.0//EN
CALSCALE:GREGORIAN
METHOD:PUBLISH
X-WR-CALNAME:Granbury Baptist
X-ORIGINAL-URL:https://granburybaptistchurch.org
X-WR-CALDESC:Events for Granbury Baptist
REFRESH-INTERVAL;VALUE=DURATION:PT1H
X-Robots-Tag:noindex
X-PUBLISHED-TTL:PT1H
BEGIN:VTIMEZONE
TZID:UTC
BEGIN:STANDARD
TZOFFSETFROM:+0000
TZOFFSETTO:+0000
TZNAME:UTC
DTSTART:20280101T000000
END:STANDARD
END:VTIMEZONE
BEGIN:VEVENT
DTSTART;TZID=UTC:20290412T080000
DTEND;TZID=UTC:20290412T170000
DTSTAMP:20260421T180548
CREATED:20251107T190202Z
LAST-MODIFIED:20251124T044003Z
UID:10002942-1870675200-1870707600@granburybaptistchurch.org
SUMMARY:Young Adult Thursday Service
DESCRIPTION:Young Adults Praise & Worship\n\nOn alternating Thursdays from 7–8 PM\, join us for an evening of praise\, worship\, and a sermon. Recharge spiritually and connect with others in the young adult community.
URL:https://granburybaptistchurch.org/event/young-adult-thursday-service/2029-04-12/
LOCATION:TX
CATEGORIES:Young Adult Events
ATTACH;FMTTYPE=image/png:https://granburybaptistchurch.org/wp-content/uploads/2025/11/thursday-service.png
END:VEVENT
BEGIN:VEVENT
DTSTART;TZID=UTC:20290412T110000
DTEND;TZID=UTC:20290412T120000
DTSTAMP:20260421T180548
CREATED:20251107T202939Z
LAST-MODIFIED:20251107T213233Z
UID:10003128-1870686000-1870689600@granburybaptistchurch.org
SUMMARY:Power Hour
DESCRIPTION:Women’s Power Hour\nLocated in the GBC Foyer \nReceive a Blessing AND Be a Blessing by spending just 1 hour a month encouraging someone. We send cards of encouragement to the sick\, the heartbroken\, the lonely and the lost\, in Jesus’ name. \n(PS: We are a low stress group and understand if you can’t make it every time!) \nSign up form is in the church Lobby – or click the button below to sign up now.\nSign Up Online
URL:https://granburybaptistchurch.org/event/power-hour/2029-04-12/
LOCATION:TX
CATEGORIES:Women
ATTACH;FMTTYPE=image/png:https://granburybaptistchurch.org/wp-content/uploads/2025/11/Power-Hour.png
END:VEVENT
END:VCALENDAR