BEGIN:VCALENDAR
VERSION:2.0
PRODID:-//Granbury Baptist - ECPv6.15.17.1//NONSGML v1.0//EN
CALSCALE:GREGORIAN
METHOD:PUBLISH
X-ORIGINAL-URL:https://granburybaptistchurch.org
X-WR-CALDESC:Events for Granbury Baptist
REFRESH-INTERVAL;VALUE=DURATION:PT1H
X-Robots-Tag:noindex
X-PUBLISHED-TTL:PT1H
BEGIN:VTIMEZONE
TZID:UTC
BEGIN:STANDARD
TZOFFSETFROM:+0000
TZOFFSETTO:+0000
TZNAME:UTC
DTSTART:20240101T000000
END:STANDARD
END:VTIMEZONE
BEGIN:VEVENT
DTSTART;TZID=UTC:20260124T093000
DTEND;TZID=UTC:20260125T150000
DTSTAMP:20260419T161056
CREATED:20260108T160636Z
LAST-MODIFIED:20260108T160652Z
UID:10004319-1769247000-1769353200@granburybaptistchurch.org
SUMMARY:Youth Conference 2026
DESCRIPTION:Middle school and high school students (6th–12th grade) are invited to an exciting overnight-style youth event filled with food\, fun\, and meaningful growth. \nJoin us Friday night from 6:30 PM–12:00 AM and Saturday from 9:30 AM–3:00 PM for great food\, free shirts\, engaging sessions\, and plenty more. \nCost: $25 per studentCome ready to learn\, grow\, and connect! \nSign Up today! \nREGISTER ONLINE
URL:https://granburybaptistchurch.org/event/youth-conference-2026/2026-01-24/
LOCATION:Granbury Baptist Church\, 1200 Weatherford Hwy\, Granbury\, TX\, 76048\, United States
CATEGORIES:Featured,Youth Group Events
ATTACH;FMTTYPE=image/jpeg:https://granburybaptistchurch.org/wp-content/uploads/2026/01/84599FDE-BCBC-49C9-8402-4B6A00C5A7D9.jpeg
END:VEVENT
BEGIN:VEVENT
DTSTART;TZID=UTC:20260123T183000
DTEND;TZID=UTC:20260123T183000
DTSTAMP:20260419T161056
CREATED:20260108T160636Z
LAST-MODIFIED:20260108T160652Z
UID:10004318-1769193000-1769193000@granburybaptistchurch.org
SUMMARY:Youth Conference 2026
DESCRIPTION:Middle school and high school students (6th–12th grade) are invited to an exciting overnight-style youth event filled with food\, fun\, and meaningful growth. \nJoin us Friday night from 6:30 PM–12:00 AM and Saturday from 9:30 AM–3:00 PM for great food\, free shirts\, engaging sessions\, and plenty more. \nCost: $25 per studentCome ready to learn\, grow\, and connect! \nSign Up today! \nREGISTER ONLINE
URL:https://granburybaptistchurch.org/event/youth-conference-2026/2026-01-23/
LOCATION:Granbury Baptist Church\, 1200 Weatherford Hwy\, Granbury\, TX\, 76048\, United States
CATEGORIES:Featured,Youth Group Events
ATTACH;FMTTYPE=image/jpeg:https://granburybaptistchurch.org/wp-content/uploads/2026/01/84599FDE-BCBC-49C9-8402-4B6A00C5A7D9.jpeg
END:VEVENT
BEGIN:VEVENT
DTSTART;TZID=UTC:20251105T183000
DTEND;TZID=UTC:20251105T193000
DTSTAMP:20260419T161056
CREATED:20251107T230852Z
LAST-MODIFIED:20251107T230905Z
UID:10003725-1762367400-1762371000@granburybaptistchurch.org
SUMMARY:Youth Group Wednesday Evenings
DESCRIPTION:Wednesday nights are all about outreach\, connection\, and praise and worship.\nIf you need a ride\, we’ll come to you! \nWe gather at 6:30 pm  for praise and worship\, hear a message\, and often hang out afterward with sports in the gym.
URL:https://granburybaptistchurch.org/event/youth-group-wednesday-evenings/
CATEGORIES:Youth Group Events
ATTACH;FMTTYPE=image/png:https://granburybaptistchurch.org/wp-content/uploads/2025/11/youth-wednesdays.png
END:VEVENT
END:VCALENDAR