BEGIN:VCALENDAR
VERSION:2.0
PRODID:-//Granbury Baptist - ECPv6.15.17.1//NONSGML v1.0//EN
CALSCALE:GREGORIAN
METHOD:PUBLISH
X-WR-CALNAME:Granbury Baptist
X-ORIGINAL-URL:https://granburybaptistchurch.org
X-WR-CALDESC:Events for Granbury Baptist
REFRESH-INTERVAL;VALUE=DURATION:PT1H
X-Robots-Tag:noindex
X-PUBLISHED-TTL:PT1H
BEGIN:VTIMEZONE
TZID:UTC
BEGIN:STANDARD
TZOFFSETFROM:+0000
TZOFFSETTO:+0000
TZNAME:UTC
DTSTART:20280101T000000
END:STANDARD
END:VTIMEZONE
BEGIN:VEVENT
DTSTART;TZID=UTC:20290810T103000
DTEND;TZID=UTC:20290810T113000
DTSTAMP:20260426T020833
CREATED:20251116T175538Z
LAST-MODIFIED:20251116T175645Z
UID:10001037-1881052200-1881055800@granburybaptistchurch.org
SUMMARY:Senior Ladies Exercise Group
DESCRIPTION:  \nJoin us each Friday in room 101 for a free health and fitness class designed especially for senior ladies. Led in a supportive\, encouraging environment\, this class promotes gentle movement\, strength\, and overall wellness. \nMore than just exercise\, it’s a wonderful opportunity to connect with friends\, build new relationships\, and enjoy a continued sense of purpose within our church community. All fitness levels are welcome—come as you are and leave refreshed in body and spirit! \nSign up form is in the church Lobby – or click the button below to sign up now. \n\nSign Up Online
URL:https://granburybaptistchurch.org/event/ladies-crafting-2-2-2/2029-08-10/
LOCATION:TX
CATEGORIES:Seniors,Women
ATTACH;FMTTYPE=image/png:https://granburybaptistchurch.org/wp-content/uploads/2025/10/exercisegroup.png
END:VEVENT
BEGIN:VEVENT
DTSTART;TZID=UTC:20290812T094500
DTEND;TZID=UTC:20290812T110000
DTSTAMP:20260426T020833
CREATED:20251107T183309Z
LAST-MODIFIED:20251107T183335Z
UID:10002345-1881222300-1881226800@granburybaptistchurch.org
SUMMARY:A Biblical Worldview of Money
DESCRIPTION:Young Adult Bible Study\n\nJoin us Sunday mornings at 9:45 AM in Room 201 as we dive into a Bible study on A Biblical Worldview of Money. Grow in your faith and understanding alongside other young adults.
URL:https://granburybaptistchurch.org/event/a-biblical-worldview-of-money/2029-08-12/
LOCATION:TX
CATEGORIES:Young Adult Events
ATTACH;FMTTYPE=image/png:https://granburybaptistchurch.org/wp-content/uploads/2025/11/BibleStudySundays.png
END:VEVENT
BEGIN:VEVENT
DTSTART;TZID=UTC:20290814T103000
DTEND;TZID=UTC:20290814T113000
DTSTAMP:20260426T020833
CREATED:20251020T221547Z
LAST-MODIFIED:20251116T174755Z
UID:10004241-1881397800-1881401400@granburybaptistchurch.org
SUMMARY:Mommy & Me
DESCRIPTION:Our heart is to create a space where children thrive and moms are refreshed. Whether you are looking for a place to bond with your child\, grow in your faith\, of simply build friendships\, we would love to have you in our class! Mommy and Me meets every Tuesday in the nursery. \nKids will have fun hands- on activities that initiate creativity while forming friendships.\nMoms will gather for a meaningful Bible study to help find encouragement and grow their faith alongside other moms walking through similar seasons. \n“And let us consider how to stir up one another to love and good works.” – Hebrews 10:24 \nText To Join
URL:https://granburybaptistchurch.org/event/mommy-me/2029-08-14/
LOCATION:TX
CATEGORIES:Mommy & Me,Women
ATTACH;FMTTYPE=image/png:https://granburybaptistchurch.org/wp-content/uploads/2025/10/MommyMeClasshero.png
END:VEVENT
BEGIN:VEVENT
DTSTART;TZID=UTC:20290815T180000
DTEND;TZID=UTC:20290815T193000
DTSTAMP:20260426T020833
CREATED:20251124T044139Z
LAST-MODIFIED:20260410T212229Z
UID:10003978-1881511200-1881516600@granburybaptistchurch.org
SUMMARY:Young Married Women Bible Study
DESCRIPTION:Dinner in Foyer | Class Room 104\nYoung married women are invited to join this encouraging Bible study each week. The group meets after a meal in the foyer—dinner begins at 6:00 PM\, and the class starts at 6:30 PM in Room 104. The study combines fellowship\, discussion\, and practical biblical teaching designed to support faith\, marriage\, and everyday life.
URL:https://granburybaptistchurch.org/event/young-married-women-bible-study-2/2029-08-15/
LOCATION:TX
CATEGORIES:Wednesday Bible Studies,Women,Young Adult Events
END:VEVENT
BEGIN:VEVENT
DTSTART;TZID=UTC:20290815T183000
DTEND;TZID=UTC:20290815T193000
DTSTAMP:20260426T020833
CREATED:20251124T044054Z
LAST-MODIFIED:20260410T212330Z
UID:10002085-1881513000-1881516600@granburybaptistchurch.org
SUMMARY:Single Moms
DESCRIPTION:Wednesday Night – Single Moms’ Group\nLed by Heather Lehrman\nA supportive group for single moms to grow in faith\, dive into Bible studies\, and explore practical ways to navigate the challenges of daily life. Connect with others walking a similar journey and find encouragement\, guidance\, and strength. Come as you are—this is a place of grace and community. \nConnect On GroupMe
URL:https://granburybaptistchurch.org/event/single-moms-2-2-2-2/2029-08-15/
LOCATION:TX
CATEGORIES:Single Moms Group,Wednesday Bible Studies,Women
END:VEVENT
BEGIN:VEVENT
DTSTART;TZID=UTC:20290816T080000
DTEND;TZID=UTC:20290816T170000
DTSTAMP:20260426T020833
CREATED:20251107T190202Z
LAST-MODIFIED:20251124T044003Z
UID:10002876-1881561600-1881594000@granburybaptistchurch.org
SUMMARY:Young Adult Thursday Service
DESCRIPTION:Young Adults Praise & Worship\n\nOn alternating Thursdays from 7–8 PM\, join us for an evening of praise\, worship\, and a sermon. Recharge spiritually and connect with others in the young adult community.
URL:https://granburybaptistchurch.org/event/young-adult-thursday-service/2029-08-16/
LOCATION:TX
CATEGORIES:Young Adult Events
ATTACH;FMTTYPE=image/png:https://granburybaptistchurch.org/wp-content/uploads/2025/11/thursday-service.png
END:VEVENT
BEGIN:VEVENT
DTSTART;TZID=UTC:20290817T103000
DTEND;TZID=UTC:20290817T113000
DTSTAMP:20260426T020833
CREATED:20251116T175538Z
LAST-MODIFIED:20251116T175645Z
UID:10001038-1881657000-1881660600@granburybaptistchurch.org
SUMMARY:Senior Ladies Exercise Group
DESCRIPTION:  \nJoin us each Friday in room 101 for a free health and fitness class designed especially for senior ladies. Led in a supportive\, encouraging environment\, this class promotes gentle movement\, strength\, and overall wellness. \nMore than just exercise\, it’s a wonderful opportunity to connect with friends\, build new relationships\, and enjoy a continued sense of purpose within our church community. All fitness levels are welcome—come as you are and leave refreshed in body and spirit! \nSign up form is in the church Lobby – or click the button below to sign up now. \n\nSign Up Online
URL:https://granburybaptistchurch.org/event/ladies-crafting-2-2-2/2029-08-17/
LOCATION:TX
CATEGORIES:Seniors,Women
ATTACH;FMTTYPE=image/png:https://granburybaptistchurch.org/wp-content/uploads/2025/10/exercisegroup.png
END:VEVENT
BEGIN:VEVENT
DTSTART;TZID=UTC:20290819T094500
DTEND;TZID=UTC:20290819T110000
DTSTAMP:20260426T020833
CREATED:20251107T183309Z
LAST-MODIFIED:20251107T183335Z
UID:10002346-1881827100-1881831600@granburybaptistchurch.org
SUMMARY:A Biblical Worldview of Money
DESCRIPTION:Young Adult Bible Study\n\nJoin us Sunday mornings at 9:45 AM in Room 201 as we dive into a Bible study on A Biblical Worldview of Money. Grow in your faith and understanding alongside other young adults.
URL:https://granburybaptistchurch.org/event/a-biblical-worldview-of-money/2029-08-19/
LOCATION:TX
CATEGORIES:Young Adult Events
ATTACH;FMTTYPE=image/png:https://granburybaptistchurch.org/wp-content/uploads/2025/11/BibleStudySundays.png
END:VEVENT
BEGIN:VEVENT
DTSTART;TZID=UTC:20290821T103000
DTEND;TZID=UTC:20290821T113000
DTSTAMP:20260426T020833
CREATED:20251020T221547Z
LAST-MODIFIED:20251116T174755Z
UID:10004242-1882002600-1882006200@granburybaptistchurch.org
SUMMARY:Mommy & Me
DESCRIPTION:Our heart is to create a space where children thrive and moms are refreshed. Whether you are looking for a place to bond with your child\, grow in your faith\, of simply build friendships\, we would love to have you in our class! Mommy and Me meets every Tuesday in the nursery. \nKids will have fun hands- on activities that initiate creativity while forming friendships.\nMoms will gather for a meaningful Bible study to help find encouragement and grow their faith alongside other moms walking through similar seasons. \n“And let us consider how to stir up one another to love and good works.” – Hebrews 10:24 \nText To Join
URL:https://granburybaptistchurch.org/event/mommy-me/2029-08-21/
LOCATION:TX
CATEGORIES:Mommy & Me,Women
ATTACH;FMTTYPE=image/png:https://granburybaptistchurch.org/wp-content/uploads/2025/10/MommyMeClasshero.png
END:VEVENT
BEGIN:VEVENT
DTSTART;TZID=UTC:20290822T180000
DTEND;TZID=UTC:20290822T193000
DTSTAMP:20260426T020833
CREATED:20251124T044139Z
LAST-MODIFIED:20260410T212229Z
UID:10003979-1882116000-1882121400@granburybaptistchurch.org
SUMMARY:Young Married Women Bible Study
DESCRIPTION:Dinner in Foyer | Class Room 104\nYoung married women are invited to join this encouraging Bible study each week. The group meets after a meal in the foyer—dinner begins at 6:00 PM\, and the class starts at 6:30 PM in Room 104. The study combines fellowship\, discussion\, and practical biblical teaching designed to support faith\, marriage\, and everyday life.
URL:https://granburybaptistchurch.org/event/young-married-women-bible-study-2/2029-08-22/
LOCATION:TX
CATEGORIES:Wednesday Bible Studies,Women,Young Adult Events
END:VEVENT
BEGIN:VEVENT
DTSTART;TZID=UTC:20290822T183000
DTEND;TZID=UTC:20290822T193000
DTSTAMP:20260426T020833
CREATED:20251124T044054Z
LAST-MODIFIED:20260410T212330Z
UID:10002086-1882117800-1882121400@granburybaptistchurch.org
SUMMARY:Single Moms
DESCRIPTION:Wednesday Night – Single Moms’ Group\nLed by Heather Lehrman\nA supportive group for single moms to grow in faith\, dive into Bible studies\, and explore practical ways to navigate the challenges of daily life. Connect with others walking a similar journey and find encouragement\, guidance\, and strength. Come as you are—this is a place of grace and community. \nConnect On GroupMe
URL:https://granburybaptistchurch.org/event/single-moms-2-2-2-2/2029-08-22/
LOCATION:TX
CATEGORIES:Single Moms Group,Wednesday Bible Studies,Women
END:VEVENT
BEGIN:VEVENT
DTSTART;TZID=UTC:20290823T080000
DTEND;TZID=UTC:20290823T170000
DTSTAMP:20260426T020833
CREATED:20251124T044230Z
LAST-MODIFIED:20251124T044231Z
UID:10002799-1882166400-1882198800@granburybaptistchurch.org
SUMMARY:Young Adult Book Discussion
DESCRIPTION:Young Adults Fellowship & Book Discussion\nEvery other Thursday from 7–8 PM\, we gather for food\, fellowship\, and breakout groups to discuss our current books. Men and women meet separately to explore their own readings in a supportive community.
URL:https://granburybaptistchurch.org/event/young-adult-book-discussion-2/2029-08-23/
LOCATION:TX
CATEGORIES:Young Adult Events
ATTACH;FMTTYPE=image/png:https://granburybaptistchurch.org/wp-content/uploads/2025/11/BookClub-Fellowship-Thirsday.png
END:VEVENT
BEGIN:VEVENT
DTSTART;TZID=UTC:20290824T103000
DTEND;TZID=UTC:20290824T113000
DTSTAMP:20260426T020833
CREATED:20251116T175538Z
LAST-MODIFIED:20251116T175645Z
UID:10001039-1882261800-1882265400@granburybaptistchurch.org
SUMMARY:Senior Ladies Exercise Group
DESCRIPTION:  \nJoin us each Friday in room 101 for a free health and fitness class designed especially for senior ladies. Led in a supportive\, encouraging environment\, this class promotes gentle movement\, strength\, and overall wellness. \nMore than just exercise\, it’s a wonderful opportunity to connect with friends\, build new relationships\, and enjoy a continued sense of purpose within our church community. All fitness levels are welcome—come as you are and leave refreshed in body and spirit! \nSign up form is in the church Lobby – or click the button below to sign up now. \n\nSign Up Online
URL:https://granburybaptistchurch.org/event/ladies-crafting-2-2-2/2029-08-24/
LOCATION:TX
CATEGORIES:Seniors,Women
ATTACH;FMTTYPE=image/png:https://granburybaptistchurch.org/wp-content/uploads/2025/10/exercisegroup.png
END:VEVENT
BEGIN:VEVENT
DTSTART;TZID=UTC:20290826T094500
DTEND;TZID=UTC:20290826T110000
DTSTAMP:20260426T020833
CREATED:20251107T183309Z
LAST-MODIFIED:20251107T183335Z
UID:10002347-1882431900-1882436400@granburybaptistchurch.org
SUMMARY:A Biblical Worldview of Money
DESCRIPTION:Young Adult Bible Study\n\nJoin us Sunday mornings at 9:45 AM in Room 201 as we dive into a Bible study on A Biblical Worldview of Money. Grow in your faith and understanding alongside other young adults.
URL:https://granburybaptistchurch.org/event/a-biblical-worldview-of-money/2029-08-26/
LOCATION:TX
CATEGORIES:Young Adult Events
ATTACH;FMTTYPE=image/png:https://granburybaptistchurch.org/wp-content/uploads/2025/11/BibleStudySundays.png
END:VEVENT
BEGIN:VEVENT
DTSTART;TZID=UTC:20290828T103000
DTEND;TZID=UTC:20290828T113000
DTSTAMP:20260426T020833
CREATED:20251020T221547Z
LAST-MODIFIED:20251116T174755Z
UID:10004243-1882607400-1882611000@granburybaptistchurch.org
SUMMARY:Mommy & Me
DESCRIPTION:Our heart is to create a space where children thrive and moms are refreshed. Whether you are looking for a place to bond with your child\, grow in your faith\, of simply build friendships\, we would love to have you in our class! Mommy and Me meets every Tuesday in the nursery. \nKids will have fun hands- on activities that initiate creativity while forming friendships.\nMoms will gather for a meaningful Bible study to help find encouragement and grow their faith alongside other moms walking through similar seasons. \n“And let us consider how to stir up one another to love and good works.” – Hebrews 10:24 \nText To Join
URL:https://granburybaptistchurch.org/event/mommy-me/2029-08-28/
LOCATION:TX
CATEGORIES:Mommy & Me,Women
ATTACH;FMTTYPE=image/png:https://granburybaptistchurch.org/wp-content/uploads/2025/10/MommyMeClasshero.png
END:VEVENT
BEGIN:VEVENT
DTSTART;TZID=UTC:20290829T180000
DTEND;TZID=UTC:20290829T193000
DTSTAMP:20260426T020833
CREATED:20251124T044139Z
LAST-MODIFIED:20260410T212229Z
UID:10003980-1882720800-1882726200@granburybaptistchurch.org
SUMMARY:Young Married Women Bible Study
DESCRIPTION:Dinner in Foyer | Class Room 104\nYoung married women are invited to join this encouraging Bible study each week. The group meets after a meal in the foyer—dinner begins at 6:00 PM\, and the class starts at 6:30 PM in Room 104. The study combines fellowship\, discussion\, and practical biblical teaching designed to support faith\, marriage\, and everyday life.
URL:https://granburybaptistchurch.org/event/young-married-women-bible-study-2/2029-08-29/
LOCATION:TX
CATEGORIES:Wednesday Bible Studies,Women,Young Adult Events
END:VEVENT
BEGIN:VEVENT
DTSTART;TZID=UTC:20290829T183000
DTEND;TZID=UTC:20290829T193000
DTSTAMP:20260426T020833
CREATED:20251124T044054Z
LAST-MODIFIED:20260410T212330Z
UID:10002087-1882722600-1882726200@granburybaptistchurch.org
SUMMARY:Single Moms
DESCRIPTION:Wednesday Night – Single Moms’ Group\nLed by Heather Lehrman\nA supportive group for single moms to grow in faith\, dive into Bible studies\, and explore practical ways to navigate the challenges of daily life. Connect with others walking a similar journey and find encouragement\, guidance\, and strength. Come as you are—this is a place of grace and community. \nConnect On GroupMe
URL:https://granburybaptistchurch.org/event/single-moms-2-2-2-2/2029-08-29/
LOCATION:TX
CATEGORIES:Single Moms Group,Wednesday Bible Studies,Women
END:VEVENT
BEGIN:VEVENT
DTSTART;TZID=UTC:20290830T080000
DTEND;TZID=UTC:20290830T170000
DTSTAMP:20260426T020833
CREATED:20251107T190202Z
LAST-MODIFIED:20251124T044003Z
UID:10002947-1882771200-1882803600@granburybaptistchurch.org
SUMMARY:Young Adult Thursday Service
DESCRIPTION:Young Adults Praise & Worship\n\nOn alternating Thursdays from 7–8 PM\, join us for an evening of praise\, worship\, and a sermon. Recharge spiritually and connect with others in the young adult community.
URL:https://granburybaptistchurch.org/event/young-adult-thursday-service/2029-08-30/
LOCATION:TX
CATEGORIES:Young Adult Events
ATTACH;FMTTYPE=image/png:https://granburybaptistchurch.org/wp-content/uploads/2025/11/thursday-service.png
END:VEVENT
BEGIN:VEVENT
DTSTART;TZID=UTC:20290831T103000
DTEND;TZID=UTC:20290831T113000
DTSTAMP:20260426T020833
CREATED:20251116T175538Z
LAST-MODIFIED:20251116T175645Z
UID:10001040-1882866600-1882870200@granburybaptistchurch.org
SUMMARY:Senior Ladies Exercise Group
DESCRIPTION:  \nJoin us each Friday in room 101 for a free health and fitness class designed especially for senior ladies. Led in a supportive\, encouraging environment\, this class promotes gentle movement\, strength\, and overall wellness. \nMore than just exercise\, it’s a wonderful opportunity to connect with friends\, build new relationships\, and enjoy a continued sense of purpose within our church community. All fitness levels are welcome—come as you are and leave refreshed in body and spirit! \nSign up form is in the church Lobby – or click the button below to sign up now. \n\nSign Up Online
URL:https://granburybaptistchurch.org/event/ladies-crafting-2-2-2/2029-08-31/
LOCATION:TX
CATEGORIES:Seniors,Women
ATTACH;FMTTYPE=image/png:https://granburybaptistchurch.org/wp-content/uploads/2025/10/exercisegroup.png
END:VEVENT
BEGIN:VEVENT
DTSTART;TZID=UTC:20290901T120000
DTEND;TZID=UTC:20290901T143000
DTSTAMP:20260426T020833
CREATED:20251107T203158Z
LAST-MODIFIED:20251107T213059Z
UID:10003191-1882958400-1882967400@granburybaptistchurch.org
SUMMARY:Ladies Luncheon
DESCRIPTION:Gatherings are the 1st Saturday of the Month\nLuncheon Times Vary \nLadies are invited to meet for food and fellowship. We meet at a different restaurant each month so there no food to prepare and no cleanup! We usually meet for lunch however there are times when we will meet for an early dinner. It is a great time to get to know the other ladies through good food and great fellowship. Please join us for food\, fun and fellowship. We look forward to seeing you there! \nSign up in the in GBC Lobby or click the button below to sign up online. \nSign Up Online \n 
URL:https://granburybaptistchurch.org/event/ladies-luncheon-2/2029-09-01/
LOCATION:TX
CATEGORIES:Women
ATTACH;FMTTYPE=image/png:https://granburybaptistchurch.org/wp-content/uploads/2025/11/ladies-luncheon.png
END:VEVENT
BEGIN:VEVENT
DTSTART;TZID=UTC:20290902T094500
DTEND;TZID=UTC:20290902T110000
DTSTAMP:20260426T020833
CREATED:20251107T183309Z
LAST-MODIFIED:20251107T183335Z
UID:10002348-1883036700-1883041200@granburybaptistchurch.org
SUMMARY:A Biblical Worldview of Money
DESCRIPTION:Young Adult Bible Study\n\nJoin us Sunday mornings at 9:45 AM in Room 201 as we dive into a Bible study on A Biblical Worldview of Money. Grow in your faith and understanding alongside other young adults.
URL:https://granburybaptistchurch.org/event/a-biblical-worldview-of-money/2029-09-02/
LOCATION:TX
CATEGORIES:Young Adult Events
ATTACH;FMTTYPE=image/png:https://granburybaptistchurch.org/wp-content/uploads/2025/11/BibleStudySundays.png
END:VEVENT
BEGIN:VEVENT
DTSTART;TZID=UTC:20290904T103000
DTEND;TZID=UTC:20290904T113000
DTSTAMP:20260426T020833
CREATED:20251020T221547Z
LAST-MODIFIED:20251116T174755Z
UID:10004244-1883212200-1883215800@granburybaptistchurch.org
SUMMARY:Mommy & Me
DESCRIPTION:Our heart is to create a space where children thrive and moms are refreshed. Whether you are looking for a place to bond with your child\, grow in your faith\, of simply build friendships\, we would love to have you in our class! Mommy and Me meets every Tuesday in the nursery. \nKids will have fun hands- on activities that initiate creativity while forming friendships.\nMoms will gather for a meaningful Bible study to help find encouragement and grow their faith alongside other moms walking through similar seasons. \n“And let us consider how to stir up one another to love and good works.” – Hebrews 10:24 \nText To Join
URL:https://granburybaptistchurch.org/event/mommy-me/2029-09-04/
LOCATION:TX
CATEGORIES:Mommy & Me,Women
ATTACH;FMTTYPE=image/png:https://granburybaptistchurch.org/wp-content/uploads/2025/10/MommyMeClasshero.png
END:VEVENT
BEGIN:VEVENT
DTSTART;TZID=UTC:20290905T180000
DTEND;TZID=UTC:20290905T193000
DTSTAMP:20260426T020833
CREATED:20251124T044139Z
LAST-MODIFIED:20260410T212229Z
UID:10003981-1883325600-1883331000@granburybaptistchurch.org
SUMMARY:Young Married Women Bible Study
DESCRIPTION:Dinner in Foyer | Class Room 104\nYoung married women are invited to join this encouraging Bible study each week. The group meets after a meal in the foyer—dinner begins at 6:00 PM\, and the class starts at 6:30 PM in Room 104. The study combines fellowship\, discussion\, and practical biblical teaching designed to support faith\, marriage\, and everyday life.
URL:https://granburybaptistchurch.org/event/young-married-women-bible-study-2/2029-09-05/
LOCATION:TX
CATEGORIES:Wednesday Bible Studies,Women,Young Adult Events
END:VEVENT
BEGIN:VEVENT
DTSTART;TZID=UTC:20290905T183000
DTEND;TZID=UTC:20290905T193000
DTSTAMP:20260426T020833
CREATED:20251124T044054Z
LAST-MODIFIED:20260410T212330Z
UID:10002088-1883327400-1883331000@granburybaptistchurch.org
SUMMARY:Single Moms
DESCRIPTION:Wednesday Night – Single Moms’ Group\nLed by Heather Lehrman\nA supportive group for single moms to grow in faith\, dive into Bible studies\, and explore practical ways to navigate the challenges of daily life. Connect with others walking a similar journey and find encouragement\, guidance\, and strength. Come as you are—this is a place of grace and community. \nConnect On GroupMe
URL:https://granburybaptistchurch.org/event/single-moms-2-2-2-2/2029-09-05/
LOCATION:TX
CATEGORIES:Single Moms Group,Wednesday Bible Studies,Women
END:VEVENT
BEGIN:VEVENT
DTSTART;TZID=UTC:20290906T080000
DTEND;TZID=UTC:20290906T170000
DTSTAMP:20260426T020833
CREATED:20251124T044230Z
LAST-MODIFIED:20251124T044231Z
UID:10003010-1883376000-1883408400@granburybaptistchurch.org
SUMMARY:Young Adult Book Discussion
DESCRIPTION:Young Adults Fellowship & Book Discussion\nEvery other Thursday from 7–8 PM\, we gather for food\, fellowship\, and breakout groups to discuss our current books. Men and women meet separately to explore their own readings in a supportive community.
URL:https://granburybaptistchurch.org/event/young-adult-book-discussion-2/2029-09-06/
LOCATION:TX
CATEGORIES:Young Adult Events
ATTACH;FMTTYPE=image/png:https://granburybaptistchurch.org/wp-content/uploads/2025/11/BookClub-Fellowship-Thirsday.png
END:VEVENT
BEGIN:VEVENT
DTSTART;TZID=UTC:20290907T103000
DTEND;TZID=UTC:20290907T113000
DTSTAMP:20260426T020833
CREATED:20251116T175538Z
LAST-MODIFIED:20251116T175645Z
UID:10001041-1883471400-1883475000@granburybaptistchurch.org
SUMMARY:Senior Ladies Exercise Group
DESCRIPTION:  \nJoin us each Friday in room 101 for a free health and fitness class designed especially for senior ladies. Led in a supportive\, encouraging environment\, this class promotes gentle movement\, strength\, and overall wellness. \nMore than just exercise\, it’s a wonderful opportunity to connect with friends\, build new relationships\, and enjoy a continued sense of purpose within our church community. All fitness levels are welcome—come as you are and leave refreshed in body and spirit! \nSign up form is in the church Lobby – or click the button below to sign up now. \n\nSign Up Online
URL:https://granburybaptistchurch.org/event/ladies-crafting-2-2-2/2029-09-07/
LOCATION:TX
CATEGORIES:Seniors,Women
ATTACH;FMTTYPE=image/png:https://granburybaptistchurch.org/wp-content/uploads/2025/10/exercisegroup.png
END:VEVENT
BEGIN:VEVENT
DTSTART;TZID=UTC:20290909T094500
DTEND;TZID=UTC:20290909T110000
DTSTAMP:20260426T020833
CREATED:20251107T183309Z
LAST-MODIFIED:20251107T183335Z
UID:10002349-1883641500-1883646000@granburybaptistchurch.org
SUMMARY:A Biblical Worldview of Money
DESCRIPTION:Young Adult Bible Study\n\nJoin us Sunday mornings at 9:45 AM in Room 201 as we dive into a Bible study on A Biblical Worldview of Money. Grow in your faith and understanding alongside other young adults.
URL:https://granburybaptistchurch.org/event/a-biblical-worldview-of-money/2029-09-09/
LOCATION:TX
CATEGORIES:Young Adult Events
ATTACH;FMTTYPE=image/png:https://granburybaptistchurch.org/wp-content/uploads/2025/11/BibleStudySundays.png
END:VEVENT
BEGIN:VEVENT
DTSTART;TZID=UTC:20290911T103000
DTEND;TZID=UTC:20290911T113000
DTSTAMP:20260426T020833
CREATED:20251020T221547Z
LAST-MODIFIED:20251116T174755Z
UID:10004245-1883817000-1883820600@granburybaptistchurch.org
SUMMARY:Mommy & Me
DESCRIPTION:Our heart is to create a space where children thrive and moms are refreshed. Whether you are looking for a place to bond with your child\, grow in your faith\, of simply build friendships\, we would love to have you in our class! Mommy and Me meets every Tuesday in the nursery. \nKids will have fun hands- on activities that initiate creativity while forming friendships.\nMoms will gather for a meaningful Bible study to help find encouragement and grow their faith alongside other moms walking through similar seasons. \n“And let us consider how to stir up one another to love and good works.” – Hebrews 10:24 \nText To Join
URL:https://granburybaptistchurch.org/event/mommy-me/2029-09-11/
LOCATION:TX
CATEGORIES:Mommy & Me,Women
ATTACH;FMTTYPE=image/png:https://granburybaptistchurch.org/wp-content/uploads/2025/10/MommyMeClasshero.png
END:VEVENT
BEGIN:VEVENT
DTSTART;TZID=UTC:20290912T180000
DTEND;TZID=UTC:20290912T193000
DTSTAMP:20260426T020833
CREATED:20251124T044139Z
LAST-MODIFIED:20260410T212229Z
UID:10003982-1883930400-1883935800@granburybaptistchurch.org
SUMMARY:Young Married Women Bible Study
DESCRIPTION:Dinner in Foyer | Class Room 104\nYoung married women are invited to join this encouraging Bible study each week. The group meets after a meal in the foyer—dinner begins at 6:00 PM\, and the class starts at 6:30 PM in Room 104. The study combines fellowship\, discussion\, and practical biblical teaching designed to support faith\, marriage\, and everyday life.
URL:https://granburybaptistchurch.org/event/young-married-women-bible-study-2/2029-09-12/
LOCATION:TX
CATEGORIES:Wednesday Bible Studies,Women,Young Adult Events
END:VEVENT
BEGIN:VEVENT
DTSTART;TZID=UTC:20290912T183000
DTEND;TZID=UTC:20290912T193000
DTSTAMP:20260426T020833
CREATED:20251124T044054Z
LAST-MODIFIED:20260410T212330Z
UID:10002089-1883932200-1883935800@granburybaptistchurch.org
SUMMARY:Single Moms
DESCRIPTION:Wednesday Night – Single Moms’ Group\nLed by Heather Lehrman\nA supportive group for single moms to grow in faith\, dive into Bible studies\, and explore practical ways to navigate the challenges of daily life. Connect with others walking a similar journey and find encouragement\, guidance\, and strength. Come as you are—this is a place of grace and community. \nConnect On GroupMe
URL:https://granburybaptistchurch.org/event/single-moms-2-2-2-2/2029-09-12/
LOCATION:TX
CATEGORIES:Single Moms Group,Wednesday Bible Studies,Women
END:VEVENT
END:VCALENDAR